BEGIN:VCALENDAR
VERSION:2.0
PRODID:-//RESET HOUSE - ECPv6.15.8//NONSGML v1.0//EN
CALSCALE:GREGORIAN
METHOD:PUBLISH
X-ORIGINAL-URL:https://reset-haus.com
X-WR-CALDESC:Eventos para RESET HOUSE
REFRESH-INTERVAL;VALUE=DURATION:PT1H
X-Robots-Tag:noindex
X-PUBLISHED-TTL:PT1H
BEGIN:VTIMEZONE
TZID:UTC
BEGIN:STANDARD
TZOFFSETFROM:+0000
TZOFFSETTO:+0000
TZNAME:UTC
DTSTART:20240101T000000
END:STANDARD
END:VTIMEZONE
BEGIN:VEVENT
DTSTART;VALUE=DATE:20251014
DTEND;VALUE=DATE:20251015
DTSTAMP:20260424T134043
CREATED:20251014T164007Z
LAST-MODIFIED:20251014T164142Z
UID:165-1760400000-1760486399@reset-haus.com
SUMMARY:Evento prueba 1
DESCRIPTION:asdasdasdasdad
URL:https://reset-haus.com/event/evento-prueba-1/
LOCATION:resethous\, xxx\, xx\, United States
ATTACH;FMTTYPE=image/jpeg:https://reset-haus.com/wp-content/uploads/2025/10/spa-setting-P4QEC27.jpg
ORGANIZER;CN="Fiorella":MAILTO:hola@hola.com
END:VEVENT
END:VCALENDAR